BEGIN:VCALENDAR
VERSION:2.0
PRODID:icalendar-ruby
CALSCALE:GREGORIAN
METHOD:PUBLISH
BEGIN:VEVENT
DTSTAMP:20260421T091654Z
UID:71-6796856@stcuthbert.ca
DTSTART:20261008T020000Z
DTEND:20261008T040000Z
CLASS:PUBLIC
CREATED:20260420T180526
DESCRIPTION:\n\n\n\n\n\n\n'I will praise the Lord all my life\; I will sing
  praises to God as long as I live.'\nPsalm 146:2 \nOur primary purpose in
  the church is to worship God through music\, to bring others closer to hi
 m and to aid in the church service.\nWe sing for the "One" and it is from 
 Him we seek approval. If we can bring the congregation along with us\, we 
 have done our job.\nThe Adult Choir practices Wednesday evenings in the ch
 urch Sanctuary at 7:00 pm.\nWe welcome all comers with open arms and voice
 s. You do not need the ability to read music\, just a willingness to lear
 n.\nIf you need more information please contact the church office at 604-5
 94-8822 or email info@stcuthbert.ca.\n\n\n\n Add New Section \n\n\n\n\n
 \n\n\n\n\n\n\n\n\n\n
LAST-MODIFIED:20260420T180526
LOCATION:Sanctuary
SUMMARY:Adult Choir Practice
URL;VALUE=URI:https://stcuthbert.ca/events/adult-choir-practice/2026-10-07
ATTACH;FILENAME=freely-20989.jpg;FMTTYPE=image/jpeg:https://dq5pwpg1q8ru0.c
 loudfront.net/2024/12/17/15/19/24/e0e3c3df-c066-43ec-ab79-3872ae29766f/fre
 ely-20989.jpg
END:VEVENT
END:VCALENDAR
