BEGIN:VCALENDAR
VERSION:2.0
PRODID:icalendar-ruby
CALSCALE:GREGORIAN
METHOD:PUBLISH
BEGIN:VEVENT
DTSTAMP:20260420T093150Z
UID:255-6773857@stcuthbert.ca
DTSTART:20260423T174000Z
DTEND:20260423T184000Z
CLASS:PUBLIC
CREATED:20260419T230657
DESCRIPTION:Come spend an hour with a Hearing Instrument Specialist from He
 aring Health after the 10:00am service this Thursday.
LAST-MODIFIED:20260419T230657
LOCATION:St. Cuthbert's Hall
SUMMARY:Hearing Health
URL;VALUE=URI:https://stcuthbert.ca/events/hearing-health/2026-04-23
ATTACH;FILENAME=Hearing Health Promotional Flier.png;FMTTYPE=image/png:http
 s://dq5pwpg1q8ru0.cloudfront.net/2026/04/20/06/05/54/33afd525-2096-4643-86
 a3-13c7e9161e55/Hearing%20Health%20Promotional%20Flier.png
END:VEVENT
END:VCALENDAR
